Workbook

Sheet Info
A2: Part 1 QUESTION
A4: Investment Asking Price
A5: Asking price per SF | B5: 135
A6: Purchasing cost | B6: 0.02
A7: Building Size SF | B7: 60390
A8: Tenants | B8: 3
A9: Price for Total SF | B9: =B7*B5 -> 8152650
A10: Total Asking Price | B10: =B9+(B6*B9) -> 8315703
A12: Investment Returns
A13: Tenant 1
A14: Currently renting SF | B14: 24156
A15: Annual value per SF | B15: 25
A16: Lease expiry Yrs | B16: 2
A18: Tenant 2
A19: Currently renting SF | B19: 10266
A20: Annual value per SF | B20: 23.5
A21: Lease expiry Yrs | B21: 4
A22: Annual increase | B22: 0.025
A24: Tenant 3
A25: Currently renting SF | B25: =B7-B14-B19 -> 25968
A26: Annual value per SF | B26: 22
A27: Lease expiry Yrs | B27: 6
A28: Rental increase $ per SF | B28: 2 | C28: Beginning of 2nd and 4th year
A30: Annual Investment Costs
A31: Operating Expense per SF | B31: 8.5 | C31: per year
A32: Elevator Annual Capital Reserve Expense | B32: 150000 | C32: for a period of three years
A34: Notes
A35: V&C after first lease expiry | B35: 0.05 | C35: of the PGI
A36: Increase of V&C after the expiry of the second lease | B36: 0.1 | C36: of the PGI
A38: Current annual market rate per SF | B38: 19.75
A39: Market rate of Rent decrease per year | B39: 0.035 | C39: For the next 3 years
A40: Market rate of Rent increase per year | B40: 0.025 | C40: For te next 4 years after depreciation
A42: Annual increase in Operation Cost | B42: 0.025 | C42: With inflation
A43: Landlord cover operation cost | B43: 0.25 | C43: of the remaining operating expenses
A45: Elevetor replacement cost | B45: 450000 | C45: in year 4
A47: Building Depreciation years | B47: 39 | C47: Mid year convention for 1st and last year
A48: value of improvenemts | B48: 0.8 | C48: of the purchasing price
A50: Loan to Value Ratio | B50: 0.75
A51: Going out cap rate | B51: 0.085
A52: Investor's return/Discount rate | B52: 0.1
...

Sheet Rent Market Project
A1: Year | B1: Rent
A2: 0 | B2: 19.75
A3: 1 | B3: =96.5%*B2 -> 19.05875
A4: 2 | B4: =96.5%*B3 -> 18.391694
A5: 3 | B5: =96.5%*B4 -> 17.747984
A6: 4 | B6: =102.5%*B5 -> 18.191684
A7: 5 | B7: =102.5%*B6 -> 18.646476
A8: 6 | B8: =102.5%*B7 -> 19.112638
A9: 7 | B9: =102.5%*B8 -> 19.590454

Sheet Building Purchase&Depreciation
A1: Loan Amortization
A3: Purchasing Amount | B3: =Info!B7*Info!B5 -> 8152650
A5: Loaned Amount | B5: =B3*Info!B50 -> 6114487.5
A7: Initial Capital | B7: =B3-B5 -> 2038162.5
A9: Annual Interest Rate | B9: 0.075
A11: Compounded Monthly Interest Rate | B11: =((1+(7.5%/12))^12)-1 -> 0.077632599
A13: Amortization Rate | B13: =((B11*(1+B11)^30)/((1+B11)^30-1)) -> 0.086850943
A15: Annual Loan Repayment | B15: =B13*B5 -> 531049.01 | C15: Your annual PMT is slightly off. It may be rounding. Please use the PMT function to get the monthly mortgage payment.
A17: Adjusted Basis | B17: =B7+(B15*5) -> 4693407.5
A20: Loan Payment Schedule
A22: Year | B22: Principal Payment | C22: Interest | D22: Total Loan Repayment | E22: Loan Balance
A23: 0 | B23: =D23-C23 -> 56365.451 | C23: =B11*B5 -> 474683.56 | D23: =B15 -> 531049.01 | E23: =B5-B23 -> 6058122 | G23: As the payments are monthly, calculate the accumulated interest based on monthly payments.
A24: 1 | B24: =D24-C24 -> 60741.247 | C24: =B11*E23 -> 470307.76 | D24: =B15 -> 531049.01 | E24: =E23-B24 -> 5997380.8
A25: 2 | B25: =D25-C25 -> 65456.748 | C25: =B11*E24 -> 465592.26 | D25: =B15 -> 531049.01 | E25: =E24-B25 -> 5931924.1
A26: 3 | B26: =D26-C26 -> 70538.326 | C26: =B11*E25 -> 460510.68 | D26: =B15 -> 531049.01 | E26: =E25-B26 -> 5861385.7
A27: 4 | B27: =D27-C27 -> 76014.399 | C27: =B11*E26 -> 455034.61 | D27: =B15 -> 531049.01 | E27: =E26-B27 -> 5785371.3
A28: 5 | B28: =D28-C28 -> 81915.595 | C28: =B11*E27 -> 449133.41 | D28: =B15 -> 531049.01 | E28: =E27-B28 -> 5703455.7
A31: Depreciation Calculation
A33: Annual depreciation rate = 20%/40 years
A34: Year | B34: Purchasing Price | C34: Capital Expenditure | D34: Depreciation | E34: Total
A35: 0 | B35: ='Building Purchase&Depreciation'!B3 -> 8152650 | C35: 150000 | D35: 0 | E35: =B35+C35 -> 8302650 | G35: The capital expense only incurs in year 4, so you can only depreciate it in year 4 and 5.
A36: 1 | B36: =99.5%*E35 -> 8261136.8 | C36: 150000 | D36: =E35-B36 -> 41513.25 | E36: =B36+C36 -> 8411136.8 | G36: Depreciation is based on the building value, which is 80% of the purchase price. You divide this building value by 39 years .
A37: 2 | B37: =99.5%*E36 -> 8369081.1 | C37: 150000 | D37: =E36-B37 -> 42055.684 | E37: =B37+C37 -> 8519081.1
A38: 3 | B38: =99.5%*E37 -> 8476485.7 | C38: 0 | D38: =E37-B38 -> 42595.405 | E38: =B38+C38 -> 8476485.7
A39: 4 | B39: =99.5%*E38 -> 8434103.2 | C39: 0 | D39: =E38-B39 -> 42382.428 | E39: =B39+C39 -> 8434103.2
A40: 5 | B40: =99.5%*E39 -> 8391932.7 | C40: 0 | D40: =E39-B40 -> 42170.516 | E40: =B40+C40 -> 8391932.7

Sheet Yearly Cashflow
A2: Yearly Cashflows
A4: Year 0 | B4: Tenant 1 | C4: Tenant 2 | D4: Tenant 3 | E4: TOTAL
A5: Income
A6: Currently renting SF | B6: 24156 | C6: 10266 | D6: 25968 | E6: =SUM(B6:D6) -> 60390
A7: Annual value per SF | B7: 25 | C7: 23.5 | D7: 22 | E7: =SUM(B7:D7) -> 70.5
A8: Total rent per year | B8: =B6*B7 -> 603900 | C8: =C6*C7 -> 241251 | D8: =D6*D7 -> 571296 | E8: =SUM(B8:D8) -> 1416447
A10: Expense
A11: Operating expenses | B11: =-8.5*B6 -> -205326 | C11: =-8.5*C6 -> -87261 | D11: =-8.5*D6 -> -220728 | E11: =-8.5*E6 -> -513315
A12: Elevator Capital Reserve (assume the cost is distributed evenly on all tenants) | B12: =-50000 -> -50000 | C12: -50000 | D12: -50000 | E12: =SUM(B12:D12) -> -150000
A13: Annual Mortgage Loan Repayment | E13: =-'Building Purchase&Depreciation'!B15 -> -531049.01
A14: Total Expense | E14: =SUM(E11:E13) -> -1194364
A16: Income before tax | E16: =E8+E14 -> 222082.99
A21: Year 1 | B21: Tenant 1 | C21: Tenant 2 | D21: Tenant 3 | E21: TOTAL
A22: Income
A23: Currently renting SF | B23: 24156 | C23: 10266 | D23: 25968 | E23: =SUM(B23:D23) -> 60390
A24: Annual value per SF | B24: 25 | C24: =23.5*102.5% -> 24.0875 | D24: =22+2 -> 24 | E24: =SUM(B24:D24) -> 73.0875
A25: Total rent per year | B25: =B23*B24 -> 603900 | C25: =C23*C24 -> 247282.27 | D25: =D23*D24 -> 623232 | E25: =SUM(B25:D25) -> 1474414.3
A27: Expense
A28: Operating expenses | B28: =-8.5*102.5%*25%*B23 -> -52614.787 | C28: =-8.5*102.5%*25%*C23 -> -22360.631 | D28: =-8.5*102.5%*25%*D23 -> -56561.55 | E28: =-8.5*102.5%*25%*E23 -> -131536.97
A29: Elevator Capital Reserve (assume the cost is distributed evenly on all tenants) | B29: =-50000 -> -50000 | C29: -50000 | D29: -50000 | E29: =SUM(B29:D29) -> -150000
A30: Annual Mortgage Loan Repayment | E30: =-'Building Purchase&Depreciation'!B15 -> -531049.01
A31: Total Expense | E31: =SUM(E28:E30) -> -812585.97
A33: Income before tax | E33: =E25+E31 -> 661828.3
A38: Year 2 | B38: Tenant 1 | C38: Tenant 2 | D38: Tenant 3 | E38: TOTAL
A39: Income
A40: Currently renting SF | B40: 24156 | C40: 10266 | D40: 25968 | E40: =SUM(B40:D40) -> 60390
A41: Annual value per SF | B41: ='Rent Market Project'!B4 -> 18.391694 | C41: =23.5*((102.5%)^2) -> 24.689687 | D41: =22+2 -> 24 | E41: =SUM(B41:D41) -> 67.081381
A42: Total rent per year | B42: =B40*B41 -> 444269.75 | C42: =C40*C41 -> 253464.33 | D42: =D40*D41 -> 623232 | E42: =SUM(B42:D42) -> 1320966.1
A44: Expense
A45: Operating expenses | B45: =-8.5*((102.5%)^2)*25%*B40 -> -53930.157 | C45: =-8.5*((102.5%)^2)*25%*C40 -> -22919.647 | D45: =-8.5*((102.5%)^2)*25%*D40 -> -57975.589 | E45: =SUM(C45:D45) -> -80895.236
A46: Vacancy and Collection Loss | B46: =-5%*B42 -> -22213.488 | C46: =-5%*C42 -> -12673.217 | D46: =-5%*D42 -> -31161.6 | E46: =-5%*E42 -> -66048.304
A47: Elevator Capital Reserve | B47: -50000 | C47: -50000 | D47: -50000 | E47: =SUM(B47:D47) -> -150000
A48: Annual Mortgage Loan Repayment | E48: =-'Building Purchase&Depreciation'!B15 -> -531049.01
A49: Total Expense | E49: =SUM(E45:E48) -> -827992.55
A51: Income before tax | E51: =E42+E49 -> 492973.54
A56: Year 3 | B56: Tenant 1 | C56: Tenant 2 | D56: Tenant 3 | E56: TOTAL
A57: Income
A58: Currently renting SF | B58: 24156 | C58: 10266 | D58: 25968 | E58: =SUM(B58:D58) -> 60390
A59: Annual value per SF | B59: ='Rent Market Project'!B5 -> 17.747984 | C59: =23.5*((102.5%)^3) -> 25.30693 | D59: =22+2+2 -> 26 | E59: =SUM(B59:D59) -> 69.054914
A60: Total rent per year | B60: =B58*B59 -> 428720.31 | C60: =C58*C59 -> 259800.94 | D60: =D58*D59 -> 675168 | E60: =SUM(B60:D60) -> 1363689.3
...

Sheet DCF Outline
A1: Year | B1: 1 | C1: 2 | D1: 3 | E1: 4 | F1: 5 | G1: 6
A2: Operating Cash Flows
A3: PGI | B3: ='Yearly Cashflow'!E8 -> 1416447 | C3: ='Yearly Cashflow'!E25 -> 1474414.3 | D3: ='Yearly Cashflow'!E42 -> 1320966.1 | E3: ='Yearly Cashflow'!E60 -> 1363689.3 | F3: ='Yearly Cashflow'!E77 -> 1301362.1 | G3: ='Yearly Cashflow'!E94 -> 1317017
A4: V&C | B4: 0 | C4: 0 | D4: ='Yearly Cashflow'!E46 -> -66048.304 | E4: ='Yearly Cashflow'!E64 -> -68184.463 | F4: ='Yearly Cashflow'!E81 -> -130136.21 | G4: ='Yearly Cashflow'!E98 -> -131701.7
A5: EGI | B5: =B3-B4 -> 1416447 | C5: =C3-C4 -> 1474414.3 | D5: =D3+D4 -> 1254917.8 | E5: =E3+E4 -> 1295504.8 | F5: =F3+F4 -> 1171225.9 | G5: =G3+G4 -> 1185315.3
A6: OE | B6: ='Yearly Cashflow'!E11 -> -513315 | C6: ='Yearly Cashflow'!E28 -> -131536.97 | D6: ='Yearly Cashflow'!E45 -> -80895.236 | E6: ='Yearly Cashflow'!E63 -> -82917.617 | F6: ='Yearly Cashflow'!E80 -> -138196.03 | G6: ='Yearly Cashflow'!E97 -> -141650.93 | H6: The landlord only covers 25% of the OE. Also 8.5 is the current (year 0) OE, so year 1's OE is 8.5 increased by inflation.
A7: CER | B7: ='Yearly Cashflow'!E12 -> -150000 | C7: ='Yearly Cashflow'!E29 -> -150000 | D7: ='Yearly Cashflow'!E47 -> -150000 | E7: - | F7: - | G7: -
A8: NOI | B8: =SUM(B5:B7) -> 753132 | C8: =SUM(C5:C7) -> 1192877.3 | D8: =SUM(D5:D7) -> 1024022.5 | E8: =SUM(E5:E7) -> 1212587.2 | F8: =SUM(F5:F7) -> 1033029.9 | G8: =SUM(G5:G6) -> 1043664.4
A9: DS | B9: ='Yearly Cashflow'!E13 -> -531049.01 | C9: ='Yearly Cashflow'!E30 -> -531049.01 | D9: ='Yearly Cashflow'!E48 -> -531049.01 | E9: ='Yearly Cashflow'!E65 -> -531049.01 | F9: ='Yearly Cashflow'!E82 -> -531049.01 | G9: ='Yearly Cashflow'!E99 -> -531049.01 | H9: See my comment where you calculate the PMT.
A10: BTCF | B10: =B8+B9 -> 222082.99 | C10: =C8+C9 -> 661828.3 | D10: =D8+D9 -> 492973.54 | E10: =E8+E9 -> 681538.17 | F10: =F8+F9 -> 501980.9 | G10: =G8+G9 -> 512615.37
A11: Tax | B11: =-B19 -> -97456.956 | C11: =-C19 -> -238369.7 | D11: =-D19 -> -180731.11 | E11: =-E19 -> -248318.38 | F11: =-F19 -> -187464.5 | G11: =-G19 -> -193326.16
A12: ATCF | B12: =B10+B11 -> 124626.04 | C12: =C10+C11 -> 423458.6 | D12: =D10+D11 -> 312242.43 | E12: =E10+E11 -> 433219.79 | F12: =F10+F11 -> 314516.4 | G12: =G10+G11 -> 319289.21 | H12: Not needed for year 6.
A14: Tax liability
A15: NOI | B15: =B8 -> 753132 | C15: =C8 -> 1192877.3 | D15: =D8 -> 1024022.5 | E15: =E8 -> 1212587.2 | F15: =F8 -> 1033029.9 | G15: =G8 -> 1043664.4
A16: Depreciation | B16: =-'Building Purchase&Depreciation'!D35 -> 0 | C16: =-'Building Purchase&Depreciation'!D36 -> -41513.25 | D16: =-'Building Purchase&Depreciation'!D37 -> -42055.684 | E16: =-'Building Purchase&Depreciation'!D38 -> -42595.405 | F16: =-'Building Purchase&Depreciation'!D39 -> -42382.428 | G16: =-'Building Purchase&Depreciation'!D40 -> -42170.516 | H16: See my comments where you calculate the depreciation. In the first and last year of ownership, you can only claim half the annual depreciation amount. The same applies to the new elevator.
A17: Interest | B17: =-'Building Purchase&Depreciation'!C23 -> -474683.56 | C17: =-'Building Purchase&Depreciation'!C24 -> -470307.76 | D17: =-'Building Purchase&Depreciation'!C25 -> -465592.26 | E17: =-'Building Purchase&Depreciation'!C26 -> -460510.68 | F17: =-'Building Purchase&Depreciation'!C27 -> -455034.61 | G17: =-'Building Purchase&Depreciation'!C28 -> -449133.41 | H17: See my comments where you calculate the interest payment.
A18: Taxable income | B18: =SUM(B15:B17) -> 278448.44 | C18: =SUM(C15:C17) -> 681056.3 | D18: =SUM(D15:D17) -> 516374.6 | E18: =SUM(E15:E17) -> 709481.09 | F18: =SUM(F15:F17) -> 535612.87 | G18: =SUM(G15:G17) -> 552360.45
A19: Tax | B19: =35%*B18 -> 97456.956 | C19: =35%*C18 -> 238369.7 | D19: =35%*D18 -> 180731.11 | E19: =35%*E18 -> 248318.38 | F19: =35%*F18 -> 187464.5 | G19: =35%*G18 -> 193326.16
B21: This is incorrect. The sales price is year 6's NOI divided by the going out cap rate.
A22: Equity reversion | C22: Capital Gains Tax
A23: Sales price | B23: ='Building Purchase&Depreciation'!B40 -> 8391932.7 | C23: NSP | D23: =B25 -> 8224094.1
A24: Selling costs | B24: =-2%*B23 -> -167838.65
A25: NSP | B25: =B23+B24 -> 8224094.1
A26: Mortgage balance | B26: =-'Building Purchase&Depreciation'!E27 -> -5785371.3 | C26: This will change when you use monthly payments.
A27: BTER | B27: =B25+B26 -> 2438722.7
A28: CGT | B28: =-17%*(B27+B35) -> -68095.24 | C28: This is not how the tax is calculate. See the outline. You have to calculate the income tax for the recaptured depreciation and the capital gain tax for the pure capital gain.
A29: ATER | B29: =B27+B28 -> 2370627.5
A31: Year | B31: 0 | C31: 1 | D31: 2 | E31: 3 | F31: 4 | G31: 5
A32: Discounted Cash Flow Analysis (DCF) | H32: NPV | I32: IRR
A33: ATCF | B33: =B12 -> 124626.04 | C33: =C12/((1+8.5%)^C31) -> 390284.42 | D33: =D12/((1+8.5%)^D31) -> 265235.98 | E33: =E12/((1+8.5%)^E31) -> 339171.28 | F33: =F12/((1+8.5%)^F31) -> 226946.94 | G33: =G12/((1+8.5%)^G31) -> 212341.83 | H33: =SUM(B33:G33) -> 1558606.5
A34: ATER | G34: =B29 -> 2370627.5
A35: Initial equity investment | B35: =-'Building Purchase&Depreciation'!B7 -> -2038162.5
A36: Total CF | B36: =SUM(B33:B35) -> -1913536.5 | C36: =C33 -> 390284.42 | D36: =D33 -> 265235.98 | E36: =E33 -> 339171.28 | F36: =F33 -> 226946.94 | G36: =SUM(G33:G35) -> 2582969.3 | I36: =SUM(B36:G36) -> 1891071.5
B37: The purchasing costs are an out of pocket expense that you have to add to your initial investment.
